BEGIN:VCALENDAR
VERSION:2.0
PRODID:icalendar-ruby
CALSCALE:GREGORIAN
METHOD:PUBLISH
BEGIN:VEVENT
DTSTAMP:20260420T034357Z
UID:6-228855@csbcc.org
DTSTART:20260920T180000Z
DTEND:20260920T190000Z
CLASS:PUBLIC
CREATED:20260419T173514
DESCRIPTION:
LAST-MODIFIED:20260419T173514
LOCATION:
SUMMARY:Worship Service
URL;VALUE=URI:https://csbcc.org/events/worship-service--5/2026-09-20
END:VEVENT
END:VCALENDAR
