BEGIN:VCALENDAR
VERSION:2.0
PRODID:icalendar-ruby
CALSCALE:GREGORIAN
METHOD:PUBLISH
BEGIN:VEVENT
DTSTAMP:20260420T053037Z
UID:6-228915@csbcc.org
DTSTART:20260927T180000Z
DTEND:20260927T190000Z
CLASS:PUBLIC
CREATED:20260419T211221
DESCRIPTION:
LAST-MODIFIED:20260419T211221
LOCATION:
SUMMARY:Worship Service
URL;VALUE=URI:https://csbcc.org/events/worship-service--5/2026-09-27
END:VEVENT
END:VCALENDAR
