BEGIN:VCALENDAR
VERSION:2.0
PRODID:icalendar-ruby
CALSCALE:GREGORIAN
METHOD:PUBLISH
BEGIN:VEVENT
DTSTAMP:20260420T071436Z
UID:6-228916@csbcc.org
DTSTART:20261004T180000Z
DTEND:20261004T190000Z
CLASS:PUBLIC
CREATED:20260419T211221
DESCRIPTION:
LAST-MODIFIED:20260419T211221
LOCATION:
SUMMARY:Worship Service
URL;VALUE=URI:https://csbcc.org/events/worship-service--5/2026-10-04
END:VEVENT
END:VCALENDAR
