BEGIN:VCALENDAR
VERSION:2.0
PRODID:icalendar-ruby
CALSCALE:GREGORIAN
METHOD:PUBLISH
BEGIN:VEVENT
DTSTAMP:20260422T091140Z
UID:6-229684@csbcc.org
DTSTART:20261011T180000Z
DTEND:20261011T190000Z
CLASS:PUBLIC
CREATED:20260421T183450
DESCRIPTION:
LAST-MODIFIED:20260421T183450
LOCATION:
SUMMARY:Worship Service
URL;VALUE=URI:https://csbcc.org/events/worship-service--5/2026-10-11
END:VEVENT
END:VCALENDAR
