BEGIN:VCALENDAR
VERSION:2.0
PRODID:icalendar-ruby
CALSCALE:GREGORIAN
METHOD:PUBLISH
BEGIN:VEVENT
DTSTAMP:20260424T141501Z
UID:6-230454@csbcc.org
DTSTART:20261101T190000Z
DTEND:20261101T200000Z
CLASS:PUBLIC
CREATED:20260424T054409
DESCRIPTION:
LAST-MODIFIED:20260424T054409
LOCATION:
SUMMARY:Worship Service
URL;VALUE=URI:https://csbcc.org/events/worship-service--5/2026-11-01
END:VEVENT
END:VCALENDAR
